BEGIN:VCALENDAR
VERSION:2.0
PRODID:-//Lorraine’s Soup Kitchen &amp; Pantry - ECPv6.15.11//NONSGML v1.0//EN
CALSCALE:GREGORIAN
METHOD:PUBLISH
X-ORIGINAL-URL:https://www.lorrainessoupkitchen.com
X-WR-CALDESC:Events for Lorraine’s Soup Kitchen &amp; Pantry
REFRESH-INTERVAL;VALUE=DURATION:PT1H
X-Robots-Tag:noindex
X-PUBLISHED-TTL:PT1H
BEGIN:VTIMEZONE
TZID:UTC
BEGIN:STANDARD
TZOFFSETFROM:+0000
TZOFFSETTO:+0000
TZNAME:UTC
DTSTART:20220101T000000
END:STANDARD
END:VTIMEZONE
BEGIN:VEVENT
DTSTART;TZID=UTC:20230331T183000
DTEND;TZID=UTC:20230331T210000
DTSTAMP:20260422T145057
CREATED:20230324T195533Z
LAST-MODIFIED:20230324T195533Z
UID:1517-1680287400-1680296400@www.lorrainessoupkitchen.com
SUMMARY:Designer Purse Bingo
DESCRIPTION:Knights of Columbus #69\, Granby Rd\, Chicopee  \nWin a designer bag and help us fill ours! \nDoors open at 5pm\, play starts at 6:30. \nbingo card per game\, dauber and ticket for a door prize raffle. Purchase a table of 8 and receive a ticket for a special raffle!
URL:https://www.lorrainessoupkitchen.com/event/designer-purse-bingo/
LOCATION:Kof C Council 69\, 1264 Granby Rd\, MA\, 01020
ATTACH;FMTTYPE=image/png:https://www.lorrainessoupkitchen.com/wp-content/uploads/2023/03/two.png
END:VEVENT
END:VCALENDAR